BEGIN:VCALENDAR
VERSION:2.0
PRODID:-//Der Hasenspielplatz - ECPv6.15.20//NONSGML v1.0//EN
CALSCALE:GREGORIAN
METHOD:PUBLISH
X-WR-CALNAME:Der Hasenspielplatz
X-ORIGINAL-URL:https://www.hasenspielplatz.de/wordpress
X-WR-CALDESC:Veranstaltungen für Der Hasenspielplatz
REFRESH-INTERVAL;VALUE=DURATION:PT1H
X-Robots-Tag:noindex
X-PUBLISHED-TTL:PT1H
BEGIN:VTIMEZONE
TZID:Europe/Berlin
BEGIN:DAYLIGHT
TZOFFSETFROM:+0100
TZOFFSETTO:+0200
TZNAME:CEST
DTSTART:20250330T010000
END:DAYLIGHT
BEGIN:STANDARD
TZOFFSETFROM:+0200
TZOFFSETTO:+0100
TZNAME:CET
DTSTART:20251026T010000
END:STANDARD
BEGIN:DAYLIGHT
TZOFFSETFROM:+0100
TZOFFSETTO:+0200
TZNAME:CEST
DTSTART:20260329T010000
END:DAYLIGHT
BEGIN:STANDARD
TZOFFSETFROM:+0200
TZOFFSETTO:+0100
TZNAME:CET
DTSTART:20261025T010000
END:STANDARD
BEGIN:DAYLIGHT
TZOFFSETFROM:+0100
TZOFFSETTO:+0200
TZNAME:CEST
DTSTART:20270328T010000
END:DAYLIGHT
BEGIN:STANDARD
TZOFFSETFROM:+0200
TZOFFSETTO:+0100
TZNAME:CET
DTSTART:20271031T010000
END:STANDARD
END:VTIMEZONE
BEGIN:VEVENT
DTSTART;TZID=Europe/Berlin:20260430T180000
DTEND;TZID=Europe/Berlin:20260430T220000
DTSTAMP:20260422T121807
CREATED:20260127T142844Z
LAST-MODIFIED:20260127T142845Z
UID:1083-1777572000-1777586400@www.hasenspielplatz.de
SUMMARY:Walpurgisnacht
DESCRIPTION:
URL:https://www.hasenspielplatz.de/wordpress/event/walpurgisnacht/
LOCATION:Hasenspielplatz\, Rötestraße 39\, Stuttgart\, 70197\, Germany
END:VEVENT
BEGIN:VEVENT
DTSTART;TZID=Europe/Berlin:20260508T160000
DTEND;TZID=Europe/Berlin:20260508T190000
DTSTAMP:20260422T121807
CREATED:20260212T104027Z
LAST-MODIFIED:20260302T093703Z
UID:1100-1778256000-1778266800@www.hasenspielplatz.de
SUMMARY:Hasi Treff
DESCRIPTION:“Wir möchten euch herzlich zu unserem Hasi Treff einladen\, der jeden 2. Freitag im Monat auf dem Hasenspielplatz stattfindet. Alle sind willkommen\, BesucherInnen\, neue MitgliederInnen\, alte Hasen und Häsinnen. Der Beginn ist ab 16 Uhr. Gemeinsames Abendessen wie Grillen\, Pizza bestellen oder ein Picknick findet jedes Mal statt\, sodass wir nicht nur Zeit miteinander verbringen\, sondern am Ende des Tages glücklich und satt nach Hause gehen können. Diese Treffen bieten eine großartige Gelegenheit\, um in Kontakt zu bleiben\, mehr über den Hasenspielplatz zu erfahren\, Ideen zu teilen\, neue Freundschaften zu knüpfen und gemeinsam Zeit im Freien zu verbringen. Kommt gerne vorbei. Wir freuen uns auf euch!”
URL:https://www.hasenspielplatz.de/wordpress/event/hasi-treff-11/
ATTACH;FMTTYPE=image/jpeg:https://www.hasenspielplatz.de/wordpress/wp-content/uploads/2026/03/Hasenspielitreff_2026.jpg
END:VEVENT
BEGIN:VEVENT
DTSTART;TZID=Europe/Berlin:20260612T160000
DTEND;TZID=Europe/Berlin:20260612T190000
DTSTAMP:20260422T121807
CREATED:20260212T104027Z
LAST-MODIFIED:20260302T093605Z
UID:1101-1781280000-1781290800@www.hasenspielplatz.de
SUMMARY:Hasi Treff
DESCRIPTION:“Wir möchten euch herzlich zu unserem Hasi Treff einladen\, der jeden 2. Freitag im Monat auf dem Hasenspielplatz stattfindet. Alle sind willkommen\, BesucherInnen\, neue MitgliederInnen\, alte Hasen und Häsinnen. Der Beginn ist ab 16 Uhr. Gemeinsames Abendessen wie Grillen\, Pizza bestellen oder ein Picknick findet jedes Mal statt\, sodass wir nicht nur Zeit miteinander verbringen\, sondern am Ende des Tages glücklich und satt nach Hause gehen können. Diese Treffen bieten eine großartige Gelegenheit\, um in Kontakt zu bleiben\, mehr über den Hasenspielplatz zu erfahren\, Ideen zu teilen\, neue Freundschaften zu knüpfen und gemeinsam Zeit im Freien zu verbringen. Kommt gerne vorbei. Wir freuen uns auf euch!”
URL:https://www.hasenspielplatz.de/wordpress/event/hasi-treff-12/
ATTACH;FMTTYPE=image/jpeg:https://www.hasenspielplatz.de/wordpress/wp-content/uploads/2026/03/Hasenspielitreff_2026.jpg
END:VEVENT
BEGIN:VEVENT
DTSTART;TZID=Europe/Berlin:20260704T140000
DTEND;TZID=Europe/Berlin:20260704T220000
DTSTAMP:20260422T121807
CREATED:20260127T142943Z
LAST-MODIFIED:20260127T142944Z
UID:1085-1783173600-1783202400@www.hasenspielplatz.de
SUMMARY:Sommerfest
DESCRIPTION:
URL:https://www.hasenspielplatz.de/wordpress/event/sommerfest-2/
LOCATION:Hasenspielplatz\, Rötestraße 39\, Stuttgart\, 70197\, Germany
END:VEVENT
BEGIN:VEVENT
DTSTART;TZID=Europe/Berlin:20260710T160000
DTEND;TZID=Europe/Berlin:20260710T190000
DTSTAMP:20260422T121807
CREATED:20260212T104027Z
LAST-MODIFIED:20260302T093537Z
UID:1102-1783699200-1783710000@www.hasenspielplatz.de
SUMMARY:Hasi Treff
DESCRIPTION:“Wir möchten euch herzlich zu unserem Hasi Treff einladen\, der jeden 2. Freitag im Monat auf dem Hasenspielplatz stattfindet. Alle sind willkommen\, BesucherInnen\, neue MitgliederInnen\, alte Hasen und Häsinnen. Der Beginn ist ab 16 Uhr. Gemeinsames Abendessen wie Grillen\, Pizza bestellen oder ein Picknick findet jedes Mal statt\, sodass wir nicht nur Zeit miteinander verbringen\, sondern am Ende des Tages glücklich und satt nach Hause gehen können. Diese Treffen bieten eine großartige Gelegenheit\, um in Kontakt zu bleiben\, mehr über den Hasenspielplatz zu erfahren\, Ideen zu teilen\, neue Freundschaften zu knüpfen und gemeinsam Zeit im Freien zu verbringen. Kommt gerne vorbei. Wir freuen uns auf euch!”
URL:https://www.hasenspielplatz.de/wordpress/event/hasi-treff-13/
ATTACH;FMTTYPE=image/jpeg:https://www.hasenspielplatz.de/wordpress/wp-content/uploads/2026/03/Hasenspielitreff_2026.jpg
END:VEVENT
BEGIN:VEVENT
DTSTART;TZID=Europe/Berlin:20260814T160000
DTEND;TZID=Europe/Berlin:20260814T190000
DTSTAMP:20260422T121807
CREATED:20260212T104027Z
LAST-MODIFIED:20260302T093824Z
UID:1103-1786723200-1786734000@www.hasenspielplatz.de
SUMMARY:Hasi Treff
DESCRIPTION:“Wir möchten euch herzlich zu unserem Hasi Treff einladen\, der jeden 2. Freitag im Monat auf dem Hasenspielplatz stattfindet. Alle sind willkommen\, BesucherInnen\, neue MitgliederInnen\, alte Hasen und Häsinnen. Der Beginn ist ab 16 Uhr. Gemeinsames Abendessen wie Grillen\, Pizza bestellen oder ein Picknick findet jedes Mal statt\, sodass wir nicht nur Zeit miteinander verbringen\, sondern am Ende des Tages glücklich und satt nach Hause gehen können. Diese Treffen bieten eine großartige Gelegenheit\, um in Kontakt zu bleiben\, mehr über den Hasenspielplatz zu erfahren\, Ideen zu teilen\, neue Freundschaften zu knüpfen und gemeinsam Zeit im Freien zu verbringen. Kommt gerne vorbei. Wir freuen uns auf euch!”
URL:https://www.hasenspielplatz.de/wordpress/event/hasi-treff-14/
ATTACH;FMTTYPE=image/jpeg:https://www.hasenspielplatz.de/wordpress/wp-content/uploads/2026/03/Hasenspielitreff_2026.jpg
END:VEVENT
BEGIN:VEVENT
DTSTART;TZID=Europe/Berlin:20260911T160000
DTEND;TZID=Europe/Berlin:20260911T190000
DTSTAMP:20260422T121807
CREATED:20260302T095731Z
LAST-MODIFIED:20260302T103223Z
UID:1122-1789142400-1789153200@www.hasenspielplatz.de
SUMMARY:Hasi-Treff
DESCRIPTION:“Wir möchten euch herzlich zu unserem Hasi Treff einladen\, der jeden 2. Freitag im Monat auf dem Hasenspielplatz stattfindet. Alle sind willkommen\, BesucherInnen\, neue MitgliederInnen\, alte Hasen und Häsinnen. Der Beginn ist ab 16 Uhr. Gemeinsames Abendessen wie Grillen\, Pizza bestellen oder ein Picknick findet jedes Mal statt\, sodass wir nicht nur Zeit miteinander verbringen\, sondern am Ende des Tages glücklich und satt nach Hause gehen können. Diese Treffen bieten eine großartige Gelegenheit\, um in Kontakt zu bleiben\, mehr über den Hasenspielplatz zu erfahren\, Ideen zu teilen\, neue Freundschaften zu knüpfen und gemeinsam Zeit im Freien zu verbringen. Kommt gerne vorbei. Wir freuen uns auf euch!”
URL:https://www.hasenspielplatz.de/wordpress/event/hasi-treff-16/
LOCATION:Hasenspielplatz\, Rötestraße 39\, Stuttgart\, 70197\, Germany
ATTACH;FMTTYPE=image/jpeg:https://www.hasenspielplatz.de/wordpress/wp-content/uploads/2026/03/Hasenspielitreff_2026.jpg
END:VEVENT
BEGIN:VEVENT
DTSTART;TZID=Europe/Berlin:20261017T110000
DTEND;TZID=Europe/Berlin:20261017T190000
DTSTAMP:20260422T121807
CREATED:20260127T143029Z
LAST-MODIFIED:20260127T143030Z
UID:1087-1792234800-1792263600@www.hasenspielplatz.de
SUMMARY:Herbstaktion
DESCRIPTION:
URL:https://www.hasenspielplatz.de/wordpress/event/herbstaktion-2/
LOCATION:Hasenspielplatz\, Rötestraße 39\, Stuttgart\, 70197\, Germany
END:VEVENT
BEGIN:VEVENT
DTSTART;TZID=Europe/Berlin:20261216T173000
DTEND;TZID=Europe/Berlin:20261216T210000
DTSTAMP:20260422T121807
CREATED:20260127T143129Z
LAST-MODIFIED:20260127T143130Z
UID:1089-1797442200-1797454800@www.hasenspielplatz.de
SUMMARY:Jahresausklang / lebendiger Adventskalender
DESCRIPTION:
URL:https://www.hasenspielplatz.de/wordpress/event/jahresausklang-lebendiger-adventskalender/
LOCATION:Hasenspielplatz\, Rötestraße 39\, Stuttgart\, 70197\, Germany
END:VEVENT
END:VCALENDAR